BEGIN:VCALENDAR
VERSION:2.0
PRODID:-//Bettendorf, Iowa Events - ECPv6.15.20//NONSGML v1.0//EN
CALSCALE:GREGORIAN
METHOD:PUBLISH
X-ORIGINAL-URL:https://bettevents.org
X-WR-CALDESC:Events for Bettendorf, Iowa Events
REFRESH-INTERVAL;VALUE=DURATION:PT1H
X-Robots-Tag:noindex
X-PUBLISHED-TTL:PT1H
BEGIN:VTIMEZONE
TZID:America/Chicago
BEGIN:DAYLIGHT
TZOFFSETFROM:-0600
TZOFFSETTO:-0500
TZNAME:CDT
DTSTART:20240310T080000
END:DAYLIGHT
BEGIN:STANDARD
TZOFFSETFROM:-0500
TZOFFSETTO:-0600
TZNAME:CST
DTSTART:20241103T070000
END:STANDARD
BEGIN:DAYLIGHT
TZOFFSETFROM:-0600
TZOFFSETTO:-0500
TZNAME:CDT
DTSTART:20250309T080000
END:DAYLIGHT
BEGIN:STANDARD
TZOFFSETFROM:-0500
TZOFFSETTO:-0600
TZNAME:CST
DTSTART:20251102T070000
END:STANDARD
BEGIN:DAYLIGHT
TZOFFSETFROM:-0600
TZOFFSETTO:-0500
TZNAME:CDT
DTSTART:20260308T080000
END:DAYLIGHT
BEGIN:STANDARD
TZOFFSETFROM:-0500
TZOFFSETTO:-0600
TZNAME:CST
DTSTART:20261101T070000
END:STANDARD
END:VTIMEZONE
BEGIN:VEVENT
DTSTART;TZID=America/Chicago:20250807T171500
DTEND;TZID=America/Chicago:20250807T182000
DTSTAMP:20260422T052247
CREATED:20250630T193417Z
LAST-MODIFIED:20250630T193417Z
UID:10001531-1754586900-1754590800@bettevents.org
SUMMARY:Palmer Hills Ladies Golf Clinic - Level 1
DESCRIPTION:Clinic 1 is for “The New Golfer”. Fundamentals coached on all shots. Limited to groups of 5.\nClinics will start at designated time on the left side of Palmer Hills practice facility. You’re welcome to come early and warm up on the putting green and short game areas. Range balls\, tees\, towels\, and drinks will be provided. If you have any concerns\, special requests\, do not hesitate to ask. We’re here to help! Please\, ask questions\, practice in between sessions and have fun with golf this summer.\nChoose your clinic start date for these times:  \n7/1/25 from 12:00PM – 1:05PM\n7/11/25 from 12:00PM – 1:05PM\n8/7/25 from 5:15PM – 6:20PM\n9/9/25 from 5:15PM – 6:20PM\nIf you are interested in private lessons\, please call the Palmer Hills Pro Shop at 563-332-8296.
URL:https://bettevents.org/event/palmer-hills-ladies-golf-clinic-level-1/2025-08-07/
LOCATION:Palmer Hills Golf Course\, 2999 Middle Road\, Bettendorf\, 52722
CATEGORIES:Get Active!
ATTACH;FMTTYPE=image/png:https://bettevents.org/wp-content/uploads/2025/06/07-11-Ladies-Golf-PHOTO.png
END:VEVENT
BEGIN:VEVENT
DTSTART;TZID=America/Chicago:20250807T183000
DTEND;TZID=America/Chicago:20250807T203000
DTSTAMP:20260422T052247
CREATED:20250617T210753Z
LAST-MODIFIED:20250618T212530Z
UID:10001490-1754591400-1754598600@bettevents.org
SUMMARY:Summer Concert Series - Nuclear Plowboys
DESCRIPTION:The Bettendorf Public Library is hosting 11 free weekly concerts on Thursday evenings in Faye’s Field! You are welcome to bring your own food and drinks\, and food trucks will be on site for select concerts as well. In the case of inclement weather\, concerts will be moved inside the library. For more information\, visit www.bettendorflibrary.com/summer-concerts.
URL:https://bettevents.org/event/summer-concert-series-nuclear-plowboys/
LOCATION:Faye’s Field\, Bettendorf\, IA\, 52722\, United States
ATTACH;FMTTYPE=image/png:https://bettevents.org/wp-content/uploads/2025/06/2025-8-7-Plowboys-1080-x-1080.png
ORGANIZER;CN="Bettendorf Public Library":MAILTO:info@bettendorflibrary.com
END:VEVENT
END:VCALENDAR