BEGIN:VCALENDAR
VERSION:2.0
PRODID:-//Bettendorf, Iowa Events - ECPv6.15.20//NONSGML v1.0//EN
CALSCALE:GREGORIAN
METHOD:PUBLISH
X-WR-CALNAME:Bettendorf, Iowa Events
X-ORIGINAL-URL:https://bettevents.org
X-WR-CALDESC:Events for Bettendorf, Iowa Events
REFRESH-INTERVAL;VALUE=DURATION:PT1H
X-Robots-Tag:noindex
X-PUBLISHED-TTL:PT1H
BEGIN:VTIMEZONE
TZID:America/Chicago
BEGIN:DAYLIGHT
TZOFFSETFROM:-0600
TZOFFSETTO:-0500
TZNAME:CDT
DTSTART:20240310T080000
END:DAYLIGHT
BEGIN:STANDARD
TZOFFSETFROM:-0500
TZOFFSETTO:-0600
TZNAME:CST
DTSTART:20241103T070000
END:STANDARD
BEGIN:DAYLIGHT
TZOFFSETFROM:-0600
TZOFFSETTO:-0500
TZNAME:CDT
DTSTART:20250309T080000
END:DAYLIGHT
BEGIN:STANDARD
TZOFFSETFROM:-0500
TZOFFSETTO:-0600
TZNAME:CST
DTSTART:20251102T070000
END:STANDARD
BEGIN:DAYLIGHT
TZOFFSETFROM:-0600
TZOFFSETTO:-0500
TZNAME:CDT
DTSTART:20260308T080000
END:DAYLIGHT
BEGIN:STANDARD
TZOFFSETFROM:-0500
TZOFFSETTO:-0600
TZNAME:CST
DTSTART:20261101T070000
END:STANDARD
END:VTIMEZONE
BEGIN:VEVENT
DTSTART;TZID=America/Chicago:20250718T073000
DTEND;TZID=America/Chicago:20250718T180000
DTSTAMP:20260423T211104
CREATED:20250630T184023Z
LAST-MODIFIED:20250630T184023Z
UID:10001524-1752823800-1752861600@bettevents.org
SUMMARY:Palmer Hills 50th Anniversary 3-Person Scramble
DESCRIPTION:This is the flagship event of our 50th season\, and bragging rights are on the line!\nThis competitive all-day event will include three-person teams played in a six-some\, prizes\, a special gift\, lunch\, and concludes with an awards ceremony.\nUnited Way will be joining us\, where you’ll have an opportunity to participate in our 50/50 Fundraiser to help support QC United Way!\n\nRegistration will close once tournament compacity is reached or the end of business hours on July 15th.\nAll sign-ups must be completed through Golf Status.\n\nIf you have any questions\, please reach out to: Agrell@bettendorf.org
URL:https://bettevents.org/event/palmer-hills-50th-anniversary-3-person-scramble/
LOCATION:Palmer Hills Golf Course\, 2999 Middle Road\, Bettendorf\, 52722
CATEGORIES:Get Active!,Outdoor Entertainment,Photo Op
ATTACH;FMTTYPE=image/png:https://bettevents.org/wp-content/uploads/2025/06/PH-Palmer-50th-Anniversary-3-person-scramble-social-graphic-3.png
ORGANIZER;CN="Palmer Hills Golf Course":MAILTO:jwaddell@bettendorf.org
END:VEVENT
END:VCALENDAR