BEGIN:VCALENDAR
VERSION:2.0
PRODID:-//Bettendorf, Iowa Events - ECPv6.15.20//NONSGML v1.0//EN
CALSCALE:GREGORIAN
METHOD:PUBLISH
X-ORIGINAL-URL:https://bettevents.org
X-WR-CALDESC:Events for Bettendorf, Iowa Events
REFRESH-INTERVAL;VALUE=DURATION:PT1H
X-Robots-Tag:noindex
X-PUBLISHED-TTL:PT1H
BEGIN:VTIMEZONE
TZID:America/Chicago
BEGIN:DAYLIGHT
TZOFFSETFROM:-0600
TZOFFSETTO:-0500
TZNAME:CDT
DTSTART:20240310T080000
END:DAYLIGHT
BEGIN:STANDARD
TZOFFSETFROM:-0500
TZOFFSETTO:-0600
TZNAME:CST
DTSTART:20241103T070000
END:STANDARD
BEGIN:DAYLIGHT
TZOFFSETFROM:-0600
TZOFFSETTO:-0500
TZNAME:CDT
DTSTART:20250309T080000
END:DAYLIGHT
BEGIN:STANDARD
TZOFFSETFROM:-0500
TZOFFSETTO:-0600
TZNAME:CST
DTSTART:20251102T070000
END:STANDARD
BEGIN:DAYLIGHT
TZOFFSETFROM:-0600
TZOFFSETTO:-0500
TZNAME:CDT
DTSTART:20260308T080000
END:DAYLIGHT
BEGIN:STANDARD
TZOFFSETFROM:-0500
TZOFFSETTO:-0600
TZNAME:CST
DTSTART:20261101T070000
END:STANDARD
END:VTIMEZONE
BEGIN:VEVENT
DTSTART;TZID=America/Chicago:20250719T091500
DTEND;TZID=America/Chicago:20250719T170000
DTSTAMP:20260424T081507
CREATED:20250619T181009Z
LAST-MODIFIED:20250619T181013Z
UID:10001514-1752916500-1752944400@bettevents.org
SUMMARY:QC Urban Scramble
DESCRIPTION:Gear up for the QC Urban Scramble – an action-packed biking adventure through the Quad Cities. Teams of two will pedal their way across Moline\, Rock Island\, Davenport\, and Bettendorf\, stopping at challenge stations set at iconic QC landmarks. Hosted in collaboration with the Parks and Recreation Departments from all four cities\, each stop will test your skills with fun physical and mental tasks. Atter completing each challenge\, teams receive a clue that leads them to their next destination – bringing strategy\, teamwork\, and some mystery into every leg of the race. All racers will start and end their day at Bass Street Landing. The event wraps up with an afterparty where prizes will be awarded and teams can celebrate their journey across the Quad Cities. Grab your team\, hop on your bike\, and scramble through the cities in this unforgettable race!\n\nThis is a physically demanding event covering a significant distance. It is strongly recommended that participants are experienced cyclists comfortable with biking on urban roads and trails.
URL:https://bettevents.org/event/qc-urban-scramble/
LOCATION:Bass Street Landing\, 1601 River Dr #306\, Moline\, 61265
CATEGORIES:Get Active!,Outdoor Entertainment,Photo Op
ATTACH;FMTTYPE=image/jpeg:https://bettevents.org/wp-content/uploads/2025/06/07-19-urban-scramble-PHOTO.jpg
END:VEVENT
END:VCALENDAR