BEGIN:VCALENDAR
VERSION:2.0
PRODID:-//Bettendorf, Iowa Events - ECPv6.15.20//NONSGML v1.0//EN
CALSCALE:GREGORIAN
METHOD:PUBLISH
X-ORIGINAL-URL:https://bettevents.org
X-WR-CALDESC:Events for Bettendorf, Iowa Events
REFRESH-INTERVAL;VALUE=DURATION:PT1H
X-Robots-Tag:noindex
X-PUBLISHED-TTL:PT1H
BEGIN:VTIMEZONE
TZID:America/Chicago
BEGIN:DAYLIGHT
TZOFFSETFROM:-0600
TZOFFSETTO:-0500
TZNAME:CDT
DTSTART:20240310T080000
END:DAYLIGHT
BEGIN:STANDARD
TZOFFSETFROM:-0500
TZOFFSETTO:-0600
TZNAME:CST
DTSTART:20241103T070000
END:STANDARD
BEGIN:DAYLIGHT
TZOFFSETFROM:-0600
TZOFFSETTO:-0500
TZNAME:CDT
DTSTART:20250309T080000
END:DAYLIGHT
BEGIN:STANDARD
TZOFFSETFROM:-0500
TZOFFSETTO:-0600
TZNAME:CST
DTSTART:20251102T070000
END:STANDARD
BEGIN:DAYLIGHT
TZOFFSETFROM:-0600
TZOFFSETTO:-0500
TZNAME:CDT
DTSTART:20260308T080000
END:DAYLIGHT
BEGIN:STANDARD
TZOFFSETFROM:-0500
TZOFFSETTO:-0600
TZNAME:CST
DTSTART:20261101T070000
END:STANDARD
END:VTIMEZONE
BEGIN:VEVENT
DTSTART;TZID=America/Chicago:20250528T160000
DTEND;TZID=America/Chicago:20250528T160000
DTSTAMP:20260424T071514
CREATED:20250512T205917Z
LAST-MODIFIED:20250512T205917Z
UID:10001435-1748448000-1748448000@bettevents.org
SUMMARY:Tumbling Classes
DESCRIPTION:Miss Ashley’s Tumbling classes are offered Wednesday evenings and Saturday afternoons for ages 2.5 up to 13 years with new sessions starting every 4 weeks. All classes are taught at the Bettendorf Community Center\, 2204 Grant Street. Parents/guardians are allowed to view their child’s class but must stay in the classroom.\n\nWednesdays\, May 28 – June 18 	 \nAge: 2.5 years – 4 years  Class Times: 4:10pm-5:00pm\nAge: 2.5 years – 4 years  Class Times: 5:10pm-6:00pm\nAge: 5 years – 7 years     Class Times: 6:10pm-7:00pm\nAge: 8 years – 13 years   Class Times: 7:10pm-8:00pm\n\nSaturdays\, May 31 – June 21  \nAges: 5-8 years   Class Times: 4:15pm-5:05pm\n\nRegistration Deadline: 1 day before class starts!
URL:https://bettevents.org/event/tumbling-classes-2/
LOCATION:Bettendorf Community Center\, 2204 Grant St.\, Bettendorf\, 52722
CATEGORIES:Get Active!
ATTACH;FMTTYPE=image/png:https://bettevents.org/wp-content/uploads/2025/05/05-28-Tumbling-PHOTO.png
END:VEVENT
END:VCALENDAR