BEGIN:VCALENDAR
VERSION:2.0
PRODID:-//Bettendorf, Iowa Events - ECPv6.15.20//NONSGML v1.0//EN
CALSCALE:GREGORIAN
METHOD:PUBLISH
X-WR-CALNAME:Bettendorf, Iowa Events
X-ORIGINAL-URL:https://bettevents.org
X-WR-CALDESC:Events for Bettendorf, Iowa Events
REFRESH-INTERVAL;VALUE=DURATION:PT1H
X-Robots-Tag:noindex
X-PUBLISHED-TTL:PT1H
BEGIN:VTIMEZONE
TZID:America/Chicago
BEGIN:DAYLIGHT
TZOFFSETFROM:-0600
TZOFFSETTO:-0500
TZNAME:CDT
DTSTART:20240310T080000
END:DAYLIGHT
BEGIN:STANDARD
TZOFFSETFROM:-0500
TZOFFSETTO:-0600
TZNAME:CST
DTSTART:20241103T070000
END:STANDARD
BEGIN:DAYLIGHT
TZOFFSETFROM:-0600
TZOFFSETTO:-0500
TZNAME:CDT
DTSTART:20250309T080000
END:DAYLIGHT
BEGIN:STANDARD
TZOFFSETFROM:-0500
TZOFFSETTO:-0600
TZNAME:CST
DTSTART:20251102T070000
END:STANDARD
BEGIN:DAYLIGHT
TZOFFSETFROM:-0600
TZOFFSETTO:-0500
TZNAME:CDT
DTSTART:20260308T080000
END:DAYLIGHT
BEGIN:STANDARD
TZOFFSETFROM:-0500
TZOFFSETTO:-0600
TZNAME:CST
DTSTART:20261101T070000
END:STANDARD
END:VTIMEZONE
BEGIN:VEVENT
DTSTART;TZID=America/Chicago:20250623T080000
DTEND;TZID=America/Chicago:20250623T183000
DTSTAMP:20260424T040819
CREATED:20250612T172749Z
LAST-MODIFIED:20250612T172749Z
UID:10001474-1750665600-1750703400@bettevents.org
SUMMARY:Bettendorf Parks & Recreation Tennis Lessons
DESCRIPTION:Our 2025 Summer Tennis Program is managed by Dan Patrick who has been a USPTA teaching tennis professional teaching lessons and directing summer camps for over 20 years. Additionally\, Tim Baldridge\, Betty Christian\, Kevin Johnston\, Rich Hoover and many of last year’s staff will return to teach this summer!\nLevels:\nBeginner: Little to no experience. Beginners will learn and develop the basic strokes.\nIntermediate: Some experience; can sustain a rally from the baseline and serve. Intermediates will work on stroke development\, scoring\, movement\, and playing.\nAdvanced: Considerable amount of experience; advanced players will work on drills\, strokes\, strategy\, and match play. For high school and junior varsity level players.\nAll lessons are located at Bettendorf Middle School. For your convenience we offer various two-week session blocks in June\, July and August for ages 5 to 18. Lessons take place daily\, Monday through Thursday\, and are held at various times in the mornings and evenings to accommodate schedules.
URL:https://bettevents.org/event/bettendorf-parks-recreation-tennis-lessons/2025-06-23/
LOCATION:Bettendorf Middle School\, 2030 Middle Rd\, Bettendorf\, 52722
CATEGORIES:Get Active!,Outdoor Entertainment
ATTACH;FMTTYPE=image/png:https://bettevents.org/wp-content/uploads/2025/06/06-09-Tennis-PHOTO.png
END:VEVENT
BEGIN:VEVENT
DTSTART;TZID=America/Chicago:20250623T083000
DTEND;TZID=America/Chicago:20250623T113000
DTSTAMP:20260424T040819
CREATED:20250612T151356Z
LAST-MODIFIED:20250612T151357Z
UID:10001449-1750667400-1750678200@bettevents.org
SUMMARY:Bettendorf Parks & Recreation Sports & Games Camp
DESCRIPTION:Join us Monday-Thursday mornings from 8:30-11:30am for this fun and active camp that will keep your kids moving all summer long! Kids ages 6-12 will get active with kid-favorite games like spider ball\, chicken on a hill\, kickball\, and more! Choose the weeks that work best for your family! Camp visitor and field trip fees are included in your weekly registration.\nWeek 1\, June 9 – QC Ultimate Frisbee\nWeek 2\, June 16 – Rugby\nWeek 3\, June 23 – Palmer Hills Golf Course\nWeek 4\, June 30 – NO CAMP\nWeek 5\, July 7 – Pickleball\nWeek 6\, July 14 – Lacrosse\nWeek 7\, July 21 – Dek Hockey\nWeek 8\, July 28 – Quad City Storm\nWeek 9\, August 4 – Dairy Queen\nCost: $65/week
URL:https://bettevents.org/event/bettendorf-parks-recreation-sports-games-camp/2025-06-23/
LOCATION:Edgewood Park\, 1400 23rd St\, Bettendorf\, 52722
CATEGORIES:Get Active!
ATTACH;FMTTYPE=image/jpeg:https://bettevents.org/wp-content/uploads/2025/06/06-10-Sports-Games.jpeg
END:VEVENT
BEGIN:VEVENT
DTSTART;TZID=America/Chicago:20250623T083000
DTEND;TZID=America/Chicago:20250623T113000
DTSTAMP:20260424T040819
CREATED:20250612T152826Z
LAST-MODIFIED:20250612T152826Z
UID:10001460-1750667400-1750678200@bettevents.org
SUMMARY:Sports & Games Camp
DESCRIPTION:Join us Monday-Thursday mornings from 8:30-11:30am for this fun and active camp that will keep your kids moving all summer long! Kids ages 6-12 will get active with kid-favorite games like spider ball\, chicken on a hill\, kickball\, and more! Choose the weeks that work best for your family! Camp visitor and field trip fees are included in your weekly registration.
URL:https://bettevents.org/event/sports-games-camp/2025-06-23/
LOCATION:Edgewood Park\, 1400 23rd St\, Bettendorf\, 52722
CATEGORIES:Get Active!,Outdoor Entertainment
ATTACH;FMTTYPE=image/png:https://bettevents.org/wp-content/uploads/2025/06/07-28-Sports-Games-Wk-8-PHOTO.png
END:VEVENT
BEGIN:VEVENT
DTSTART;TZID=America/Chicago:20250623T090000
DTEND;TZID=America/Chicago:20250623T110000
DTSTAMP:20260424T040819
CREATED:20250509T194324Z
LAST-MODIFIED:20250509T194325Z
UID:10001427-1750669200-1750676400@bettevents.org
SUMMARY:TOT LOT SUMMER CAMP!
DESCRIPTION:Choose the weeks that work best for your family!\nChildren must be 3-5 years of age\, must be toilet trained\, and must be able to participate in a large group setting. Children who are not able to adjust to this environment may not be ready to attend. If your child cannot make this adjustment\, credit will be given. Child to counselor ratio is 4:1.\nActivities include socialization\, games\, storytelling\, arts and crafts\, special visitors\, physical activity\, and more!\nRegistration is limited. Register early to get a spot at the early bird price!\nCost: $55 (2/3-5/18). Beginning 5/19\, cost is $65 per week.\nLocation: Veteran’s Memorial Park\, 1645 23rd St\, Bettendorf\nRain Location: Family Museum\, 2900 Learning Campus Drive\, Bettendorf\nAges 3-5 (age 3 by start date) Monday-Thursday\, 9:00am-11:00am
URL:https://bettevents.org/event/tot-lot-summer-camp/2025-06-23/
LOCATION:Veterans Memorial Park\, 1645 23rd St\, Bettendorf\, 52722
CATEGORIES:Get Active!,Outdoor Entertainment
ATTACH;FMTTYPE=image/png:https://bettevents.org/wp-content/uploads/2025/05/06-09-Tot-Lot-PHOTO5.png
END:VEVENT
BEGIN:VEVENT
DTSTART;TZID=America/Chicago:20250623T160000
DTEND;TZID=America/Chicago:20250623T173000
DTSTAMP:20260424T040819
CREATED:20250617T201949Z
LAST-MODIFIED:20250617T201950Z
UID:10001478-1750694400-1750699800@bettevents.org
SUMMARY:Bettendorf Parks & Rec Top Gun Tennis Clinics
DESCRIPTION:These classes are advanced high performance yellow ball training classes that require minimum tennis related skills and are run as  1) point based and 2) match play type of tennis classes that are not for beginner or intermediate level players.\n\nElite Mandatory requirements:\n– For ages 13 – 17\n– Must have prior tennis director approval to be registered for this class.\n– Must have played in yellow ball USTA events or tournaments.\n– Must have played on a varsity or higher-level JV high school tennis team.\n– If player is younger than high school\, must contact director.\n\nJunior Mandatory requirements:\n– For ages 10 – 16\n– Must have prior tennis director approval to be registered for this class.\n– Must have played in yellow ball (or green ball) USTA events or tournaments.\n– Must have played on JV level or higher on high school or jr. high tennis team.\n– If 10-14 years old\, have been in higher level yellow (green) organized tennis classes.\n– For players that are able to play matches and serve effectively.
URL:https://bettevents.org/event/bettendorf-parks-rec-top-gun-tennis-clinics/2025-06-23/
LOCATION:Bettendorf Middle School\, 2030 Middle Rd\, Bettendorf\, 52722
CATEGORIES:Get Active!
ATTACH;FMTTYPE=image/jpeg:https://bettevents.org/wp-content/uploads/2025/06/06-23-Top-Guns-Tennis.jpg
END:VEVENT
BEGIN:VEVENT
DTSTART;TZID=America/Chicago:20250625T160000
DTEND;TZID=America/Chicago:20250625T160000
DTSTAMP:20260424T040819
CREATED:20250512T205932Z
LAST-MODIFIED:20250512T205932Z
UID:10001436-1750867200-1750867200@bettevents.org
SUMMARY:Tumbling Class
DESCRIPTION:Miss Ashley’s Tumbling classes are offered Wednesday evenings and Saturday afternoons for ages 2.5 up to 13 years with new sessions starting every 4 weeks. All classes are taught at the Bettendorf Community Center\, 2204 Grant Street. Parents/guardians are allowed to view their child’s class but must stay in the classroom.\n\nWednesdays\, June 25 – July 16	 \nAge: 2.5 years – 4 years  Class Times: 4:10pm-5:00pm\nAge: 2.5 years – 4 years  Class Times: 5:10pm-6:00pm\nAge: 5 years – 7 years     Class Times: 6:10pm-7:00pm\nAge: 8 years – 13 years   Class Times: 7:10pm-8:00pm\n\nSaturdays\, June 28 – July 19  \nAges: 5-8 years   Class Times: 4:15pm-5:05pm\n\nRegistration Deadline: 1 day before class starts!
URL:https://bettevents.org/event/tumbling-class-4/
LOCATION:Bettendorf Community Center\, 2204 Grant St.\, Bettendorf\, 52722
CATEGORIES:Get Active!
ATTACH;FMTTYPE=image/png:https://bettevents.org/wp-content/uploads/2025/05/06-25-Tumbling-PHOTO.png
END:VEVENT
BEGIN:VEVENT
DTSTART;TZID=America/Chicago:20250625T180000
DTEND;TZID=America/Chicago:20250625T190000
DTSTAMP:20260424T040819
CREATED:20250612T164227Z
LAST-MODIFIED:20250612T164228Z
UID:10001468-1750874400-1750878000@bettevents.org
SUMMARY:Yoga in the Park!
DESCRIPTION:Registration is required.\nAges 13-15 must be with an adult.\n\nOur FREE Yoga in The Park series is back again this summer! Enjoy the benefits of a movement practice surrounded by the serenity of our beautiful scenic parks right here in Bettendorf. These level gentle flowing yoga classes will open and stretch the body while you breathe fresh air and clear your mind from the day’s clutter. Led by a qualified instructor\, each class is accessible enough for those who are newer to yoga to participate and start enjoying the peace we feel through movement and time spent in the sacred outdoors.\nIn the event of rain\, class is cancelled.
URL:https://bettevents.org/event/yoga-in-the-park-5/2025-06-25/
LOCATION:Kiwanis Park\, 4223 Greenbrier Drive\, Bettendorf\, 52722
CATEGORIES:Family-friendly,Get Active!,Outdoor Entertainment
ATTACH;FMTTYPE=image/png:https://bettevents.org/wp-content/uploads/2025/06/RC-Yoga-Season-Graphic-AN-50.png
END:VEVENT
BEGIN:VEVENT
DTSTART;TZID=America/Chicago:20250627T161500
DTEND;TZID=America/Chicago:20250627T171500
DTSTAMP:20260424T040819
CREATED:20250421T151949Z
LAST-MODIFIED:20250421T151950Z
UID:10001396-1751040900-1751044500@bettevents.org
SUMMARY:Palmer Hills Girls Golf Clinic
DESCRIPTION:Join Coach Shawna for a fun and inspirational clinic for girls excited to meet new friends\, develop golf skills\, and go FORE your goals! This one-hour clinic will start at designated time at the putting green near the first tee. If you have any concerns\, special requests\, or if you are interested in private lessons\, please call the Palmer Hills Pro Shop at 563-332-8296. Weather cancellations for wind\, rain\, or cold will be decided two (2) hours prior to the clinic. Participants will be notified by text message\, and all cancellations will be rescheduled. Girls Ages: 8 – 11.
URL:https://bettevents.org/event/palmer-hills-girls-golf-clinic/2025-06-27/
LOCATION:Palmer Hills Golf Course\, 2999 Middle Road\, Bettendorf\, 52722
CATEGORIES:Get Active!
ATTACH;FMTTYPE=image/png:https://bettevents.org/wp-content/uploads/2025/04/04-18-Girls-Golf-AN-10.png
END:VEVENT
END:VCALENDAR