BEGIN:VCALENDAR
VERSION:2.0
PRODID:-//Bettendorf, Iowa Events - ECPv6.15.20//NONSGML v1.0//EN
CALSCALE:GREGORIAN
METHOD:PUBLISH
X-WR-CALNAME:Bettendorf, Iowa Events
X-ORIGINAL-URL:https://bettevents.org
X-WR-CALDESC:Events for Bettendorf, Iowa Events
REFRESH-INTERVAL;VALUE=DURATION:PT1H
X-Robots-Tag:noindex
X-PUBLISHED-TTL:PT1H
BEGIN:VTIMEZONE
TZID:America/Chicago
BEGIN:DAYLIGHT
TZOFFSETFROM:-0600
TZOFFSETTO:-0500
TZNAME:CDT
DTSTART:20240310T080000
END:DAYLIGHT
BEGIN:STANDARD
TZOFFSETFROM:-0500
TZOFFSETTO:-0600
TZNAME:CST
DTSTART:20241103T070000
END:STANDARD
BEGIN:DAYLIGHT
TZOFFSETFROM:-0600
TZOFFSETTO:-0500
TZNAME:CDT
DTSTART:20250309T080000
END:DAYLIGHT
BEGIN:STANDARD
TZOFFSETFROM:-0500
TZOFFSETTO:-0600
TZNAME:CST
DTSTART:20251102T070000
END:STANDARD
BEGIN:DAYLIGHT
TZOFFSETFROM:-0600
TZOFFSETTO:-0500
TZNAME:CDT
DTSTART:20260308T080000
END:DAYLIGHT
BEGIN:STANDARD
TZOFFSETFROM:-0500
TZOFFSETTO:-0600
TZNAME:CST
DTSTART:20261101T070000
END:STANDARD
END:VTIMEZONE
BEGIN:VEVENT
DTSTART;TZID=America/Chicago:20250707T080000
DTEND;TZID=America/Chicago:20250707T183000
DTSTAMP:20260423T174847
CREATED:20250612T172749Z
LAST-MODIFIED:20250612T172749Z
UID:10001475-1751875200-1751913000@bettevents.org
SUMMARY:Bettendorf Parks & Recreation Tennis Lessons
DESCRIPTION:Our 2025 Summer Tennis Program is managed by Dan Patrick who has been a USPTA teaching tennis professional teaching lessons and directing summer camps for over 20 years. Additionally\, Tim Baldridge\, Betty Christian\, Kevin Johnston\, Rich Hoover and many of last year’s staff will return to teach this summer!\nLevels:\nBeginner: Little to no experience. Beginners will learn and develop the basic strokes.\nIntermediate: Some experience; can sustain a rally from the baseline and serve. Intermediates will work on stroke development\, scoring\, movement\, and playing.\nAdvanced: Considerable amount of experience; advanced players will work on drills\, strokes\, strategy\, and match play. For high school and junior varsity level players.\nAll lessons are located at Bettendorf Middle School. For your convenience we offer various two-week session blocks in June\, July and August for ages 5 to 18. Lessons take place daily\, Monday through Thursday\, and are held at various times in the mornings and evenings to accommodate schedules.
URL:https://bettevents.org/event/bettendorf-parks-recreation-tennis-lessons/2025-07-07/
LOCATION:Bettendorf Middle School\, 2030 Middle Rd\, Bettendorf\, 52722
CATEGORIES:Get Active!,Outdoor Entertainment
ATTACH;FMTTYPE=image/png:https://bettevents.org/wp-content/uploads/2025/06/06-09-Tennis-PHOTO.png
END:VEVENT
BEGIN:VEVENT
DTSTART;TZID=America/Chicago:20250707T083000
DTEND;TZID=America/Chicago:20250707T113000
DTSTAMP:20260423T174847
CREATED:20250612T151356Z
LAST-MODIFIED:20250612T151357Z
UID:10001450-1751877000-1751887800@bettevents.org
SUMMARY:Bettendorf Parks & Recreation Sports & Games Camp
DESCRIPTION:Join us Monday-Thursday mornings from 8:30-11:30am for this fun and active camp that will keep your kids moving all summer long! Kids ages 6-12 will get active with kid-favorite games like spider ball\, chicken on a hill\, kickball\, and more! Choose the weeks that work best for your family! Camp visitor and field trip fees are included in your weekly registration.\nWeek 1\, June 9 – QC Ultimate Frisbee\nWeek 2\, June 16 – Rugby\nWeek 3\, June 23 – Palmer Hills Golf Course\nWeek 4\, June 30 – NO CAMP\nWeek 5\, July 7 – Pickleball\nWeek 6\, July 14 – Lacrosse\nWeek 7\, July 21 – Dek Hockey\nWeek 8\, July 28 – Quad City Storm\nWeek 9\, August 4 – Dairy Queen\nCost: $65/week
URL:https://bettevents.org/event/bettendorf-parks-recreation-sports-games-camp/2025-07-07/
LOCATION:Edgewood Park\, 1400 23rd St\, Bettendorf\, 52722
CATEGORIES:Get Active!
ATTACH;FMTTYPE=image/jpeg:https://bettevents.org/wp-content/uploads/2025/06/06-10-Sports-Games.jpeg
END:VEVENT
BEGIN:VEVENT
DTSTART;TZID=America/Chicago:20250707T083000
DTEND;TZID=America/Chicago:20250707T113000
DTSTAMP:20260423T174847
CREATED:20250612T152826Z
LAST-MODIFIED:20250612T152826Z
UID:10001461-1751877000-1751887800@bettevents.org
SUMMARY:Sports & Games Camp
DESCRIPTION:Join us Monday-Thursday mornings from 8:30-11:30am for this fun and active camp that will keep your kids moving all summer long! Kids ages 6-12 will get active with kid-favorite games like spider ball\, chicken on a hill\, kickball\, and more! Choose the weeks that work best for your family! Camp visitor and field trip fees are included in your weekly registration.
URL:https://bettevents.org/event/sports-games-camp/2025-07-07/
LOCATION:Edgewood Park\, 1400 23rd St\, Bettendorf\, 52722
CATEGORIES:Get Active!,Outdoor Entertainment
ATTACH;FMTTYPE=image/png:https://bettevents.org/wp-content/uploads/2025/06/07-28-Sports-Games-Wk-8-PHOTO.png
END:VEVENT
BEGIN:VEVENT
DTSTART;TZID=America/Chicago:20250707T090000
DTEND;TZID=America/Chicago:20250707T110000
DTSTAMP:20260423T174847
CREATED:20250509T194324Z
LAST-MODIFIED:20250509T194325Z
UID:10001428-1751878800-1751886000@bettevents.org
SUMMARY:TOT LOT SUMMER CAMP!
DESCRIPTION:Choose the weeks that work best for your family!\nChildren must be 3-5 years of age\, must be toilet trained\, and must be able to participate in a large group setting. Children who are not able to adjust to this environment may not be ready to attend. If your child cannot make this adjustment\, credit will be given. Child to counselor ratio is 4:1.\nActivities include socialization\, games\, storytelling\, arts and crafts\, special visitors\, physical activity\, and more!\nRegistration is limited. Register early to get a spot at the early bird price!\nCost: $55 (2/3-5/18). Beginning 5/19\, cost is $65 per week.\nLocation: Veteran’s Memorial Park\, 1645 23rd St\, Bettendorf\nRain Location: Family Museum\, 2900 Learning Campus Drive\, Bettendorf\nAges 3-5 (age 3 by start date) Monday-Thursday\, 9:00am-11:00am
URL:https://bettevents.org/event/tot-lot-summer-camp/2025-07-07/
LOCATION:Veterans Memorial Park\, 1645 23rd St\, Bettendorf\, 52722
CATEGORIES:Get Active!,Outdoor Entertainment
ATTACH;FMTTYPE=image/png:https://bettevents.org/wp-content/uploads/2025/05/06-09-Tot-Lot-PHOTO5.png
END:VEVENT
BEGIN:VEVENT
DTSTART;TZID=America/Chicago:20250707T160000
DTEND;TZID=America/Chicago:20250707T173000
DTSTAMP:20260423T174847
CREATED:20250617T201949Z
LAST-MODIFIED:20250617T201950Z
UID:10001479-1751904000-1751909400@bettevents.org
SUMMARY:Bettendorf Parks & Rec Top Gun Tennis Clinics
DESCRIPTION:These classes are advanced high performance yellow ball training classes that require minimum tennis related skills and are run as  1) point based and 2) match play type of tennis classes that are not for beginner or intermediate level players.\n\nElite Mandatory requirements:\n– For ages 13 – 17\n– Must have prior tennis director approval to be registered for this class.\n– Must have played in yellow ball USTA events or tournaments.\n– Must have played on a varsity or higher-level JV high school tennis team.\n– If player is younger than high school\, must contact director.\n\nJunior Mandatory requirements:\n– For ages 10 – 16\n– Must have prior tennis director approval to be registered for this class.\n– Must have played in yellow ball (or green ball) USTA events or tournaments.\n– Must have played on JV level or higher on high school or jr. high tennis team.\n– If 10-14 years old\, have been in higher level yellow (green) organized tennis classes.\n– For players that are able to play matches and serve effectively.
URL:https://bettevents.org/event/bettendorf-parks-rec-top-gun-tennis-clinics/2025-07-07/
LOCATION:Bettendorf Middle School\, 2030 Middle Rd\, Bettendorf\, 52722
CATEGORIES:Get Active!
ATTACH;FMTTYPE=image/jpeg:https://bettevents.org/wp-content/uploads/2025/06/06-23-Top-Guns-Tennis.jpg
END:VEVENT
BEGIN:VEVENT
DTSTART;TZID=America/Chicago:20250709T160000
DTEND;TZID=America/Chicago:20250709T170000
DTSTAMP:20260423T174847
CREATED:20250619T164013Z
LAST-MODIFIED:20250619T164014Z
UID:10001513-1752076800-1752080400@bettevents.org
SUMMARY:Youth Intermediate Pickleball Clinic
DESCRIPTION:In this Youth Pickleball Intermediate clinic\, we will cover the strategies in pickleball and cover shots like dinking\, cross-court dinking\, volleys\, and 3rd shot decisions. This class is designed for kids that have some experience playing pickleball and want to develop their game. This class is appropriate for those that have taken Jeffrey’s youth clinics in the past.\nAges: 10-14\nClinic will be held Wednesdays\, July 9 – 23
URL:https://bettevents.org/event/youth-intermediate-pickleball-clinic/
LOCATION:Bettendorf Middle School\, 2030 Middle Rd\, Bettendorf\, 52722
CATEGORIES:Get Active!
ATTACH;FMTTYPE=image/png:https://bettevents.org/wp-content/uploads/2025/06/07-09-Youth-Pickleball-Int-PHOTO.png
END:VEVENT
BEGIN:VEVENT
DTSTART;TZID=America/Chicago:20250709T180000
DTEND;TZID=America/Chicago:20250709T190000
DTSTAMP:20260423T174847
CREATED:20250612T164227Z
LAST-MODIFIED:20250612T164228Z
UID:10001470-1752084000-1752087600@bettevents.org
SUMMARY:Yoga in the Park!
DESCRIPTION:Registration is required.\nAges 13-15 must be with an adult.\n\nOur FREE Yoga in The Park series is back again this summer! Enjoy the benefits of a movement practice surrounded by the serenity of our beautiful scenic parks right here in Bettendorf. These level gentle flowing yoga classes will open and stretch the body while you breathe fresh air and clear your mind from the day’s clutter. Led by a qualified instructor\, each class is accessible enough for those who are newer to yoga to participate and start enjoying the peace we feel through movement and time spent in the sacred outdoors.\nIn the event of rain\, class is cancelled.
URL:https://bettevents.org/event/yoga-in-the-park-5/2025-07-09/
LOCATION:Kiwanis Park\, 4223 Greenbrier Drive\, Bettendorf\, 52722
CATEGORIES:Family-friendly,Get Active!,Outdoor Entertainment
ATTACH;FMTTYPE=image/png:https://bettevents.org/wp-content/uploads/2025/06/RC-Yoga-Season-Graphic-AN-50.png
END:VEVENT
BEGIN:VEVENT
DTSTART;TZID=America/Chicago:20250710T120000
DTEND;TZID=America/Chicago:20250710T183000
DTSTAMP:20260423T174847
CREATED:20250630T185956Z
LAST-MODIFIED:20250630T185957Z
UID:10001525-1752148800-1752172200@bettevents.org
SUMMARY:Palmer Hills Ladies Golf Clinics - Level 2
DESCRIPTION:Clinic 2 is for “The 2-3+ Year Golfer”. More on course shots. Strategy and scoring shots. Must have already been through a clinic program. Limited to groups of 3.\nClinics will start at designated time on the left side of Palmer Hills practice facility. You’re welcome to come early and warm up on the putting green and short game areas. Range balls\, tees\, towels\, and drinks will be provided. If you have any concerns\, special requests\, do not hesitate to ask. We’re here to help! Please\, ask questions\, practice in between sessions and have fun with golf this summer.\nChoose your clinic start date for these times:  \n7/10/25 from 5:15PM – 6:30PM\n8/5/25 from 12:00PM – 1:15PM\n8/8/25 from 12:00PM – 1:15PM\n9/11/25 from 5:15PM – 6:30PM\nIf you are interested in private lessons\, please call the Palmer Hills Pro Shop at 563-332-8296.
URL:https://bettevents.org/event/palmer-hills-ladies-golf-clinics-level-2/2025-07-10/
LOCATION:Palmer Hills Golf Course\, 2999 Middle Road\, Bettendorf\, 52722
CATEGORIES:Get Active!
ATTACH;FMTTYPE=image/png:https://bettevents.org/wp-content/uploads/2025/06/07-10-Ladies-Golf-PHOTO.png
END:VEVENT
BEGIN:VEVENT
DTSTART;TZID=America/Chicago:20250711T120000
DTEND;TZID=America/Chicago:20250711T130500
DTSTAMP:20260423T174847
CREATED:20250630T193417Z
LAST-MODIFIED:20250630T193417Z
UID:10001530-1752235200-1752239100@bettevents.org
SUMMARY:Palmer Hills Ladies Golf Clinic - Level 1
DESCRIPTION:Clinic 1 is for “The New Golfer”. Fundamentals coached on all shots. Limited to groups of 5.\nClinics will start at designated time on the left side of Palmer Hills practice facility. You’re welcome to come early and warm up on the putting green and short game areas. Range balls\, tees\, towels\, and drinks will be provided. If you have any concerns\, special requests\, do not hesitate to ask. We’re here to help! Please\, ask questions\, practice in between sessions and have fun with golf this summer.\nChoose your clinic start date for these times:  \n7/1/25 from 12:00PM – 1:05PM\n7/11/25 from 12:00PM – 1:05PM\n8/7/25 from 5:15PM – 6:20PM\n9/9/25 from 5:15PM – 6:20PM\nIf you are interested in private lessons\, please call the Palmer Hills Pro Shop at 563-332-8296.
URL:https://bettevents.org/event/palmer-hills-ladies-golf-clinic-level-1/2025-07-11/
LOCATION:Palmer Hills Golf Course\, 2999 Middle Road\, Bettendorf\, 52722
CATEGORIES:Get Active!
ATTACH;FMTTYPE=image/png:https://bettevents.org/wp-content/uploads/2025/06/07-11-Ladies-Golf-PHOTO.png
END:VEVENT
END:VCALENDAR