BEGIN:VCALENDAR
VERSION:2.0
PRODID:-//Bettendorf, Iowa Events - ECPv6.15.20//NONSGML v1.0//EN
CALSCALE:GREGORIAN
METHOD:PUBLISH
X-WR-CALNAME:Bettendorf, Iowa Events
X-ORIGINAL-URL:https://bettevents.org
X-WR-CALDESC:Events for Bettendorf, Iowa Events
REFRESH-INTERVAL;VALUE=DURATION:PT1H
X-Robots-Tag:noindex
X-PUBLISHED-TTL:PT1H
BEGIN:VTIMEZONE
TZID:America/Chicago
BEGIN:DAYLIGHT
TZOFFSETFROM:-0600
TZOFFSETTO:-0500
TZNAME:CDT
DTSTART:20240310T080000
END:DAYLIGHT
BEGIN:STANDARD
TZOFFSETFROM:-0500
TZOFFSETTO:-0600
TZNAME:CST
DTSTART:20241103T070000
END:STANDARD
BEGIN:DAYLIGHT
TZOFFSETFROM:-0600
TZOFFSETTO:-0500
TZNAME:CDT
DTSTART:20250309T080000
END:DAYLIGHT
BEGIN:STANDARD
TZOFFSETFROM:-0500
TZOFFSETTO:-0600
TZNAME:CST
DTSTART:20251102T070000
END:STANDARD
BEGIN:DAYLIGHT
TZOFFSETFROM:-0600
TZOFFSETTO:-0500
TZNAME:CDT
DTSTART:20260308T080000
END:DAYLIGHT
BEGIN:STANDARD
TZOFFSETFROM:-0500
TZOFFSETTO:-0600
TZNAME:CST
DTSTART:20261101T070000
END:STANDARD
END:VTIMEZONE
BEGIN:VEVENT
DTSTART;TZID=America/Chicago:20250811T171500
DTEND;TZID=America/Chicago:20250811T191500
DTSTAMP:20260423T100230
CREATED:20250717T204715Z
LAST-MODIFIED:20250717T204716Z
UID:10001543-1754932500-1754939700@bettevents.org
SUMMARY:Fall Flag Football
DESCRIPTION:Join Bettendorf Parks & Recreation’s fun\, no-contact flag football league where kids learn teamwork\, skills and sportsmanship in a fast-paced\, active environment! \n\nThe first four weeks will be practices; the last 5 weeks will be games. \n\nDivision: 6 – 7yrs\nAugust 12 – September 25\, Tuesdays & Thursdays either 5:15PM or 6:15PM\n\nDivision: 8 – 10yrs\nAugust 11 – September 29\, Monday & Wednesdays either 5:15PM or 6:15PM\n\nMouth guard and rec jersey required!
URL:https://bettevents.org/event/fall-flag-football/
LOCATION:Crow Creek Park\, 4701 Devils Glen Road\, Bettendorf\, IA\, 52722\, United States
CATEGORIES:Get Active!
ATTACH;FMTTYPE=image/png:https://bettevents.org/wp-content/uploads/2025/07/08-12-Flag-Football-Photo2.png
END:VEVENT
END:VCALENDAR