BEGIN:VCALENDAR
VERSION:2.0
PRODID:-//Bettendorf, Iowa Events - ECPv6.15.20//NONSGML v1.0//EN
CALSCALE:GREGORIAN
METHOD:PUBLISH
X-ORIGINAL-URL:https://bettevents.org
X-WR-CALDESC:Events for Bettendorf, Iowa Events
REFRESH-INTERVAL;VALUE=DURATION:PT1H
X-Robots-Tag:noindex
X-PUBLISHED-TTL:PT1H
BEGIN:VTIMEZONE
TZID:America/Chicago
BEGIN:DAYLIGHT
TZOFFSETFROM:-0600
TZOFFSETTO:-0500
TZNAME:CDT
DTSTART:20240310T080000
END:DAYLIGHT
BEGIN:STANDARD
TZOFFSETFROM:-0500
TZOFFSETTO:-0600
TZNAME:CST
DTSTART:20241103T070000
END:STANDARD
BEGIN:DAYLIGHT
TZOFFSETFROM:-0600
TZOFFSETTO:-0500
TZNAME:CDT
DTSTART:20250309T080000
END:DAYLIGHT
BEGIN:STANDARD
TZOFFSETFROM:-0500
TZOFFSETTO:-0600
TZNAME:CST
DTSTART:20251102T070000
END:STANDARD
BEGIN:DAYLIGHT
TZOFFSETFROM:-0600
TZOFFSETTO:-0500
TZNAME:CDT
DTSTART:20260308T080000
END:DAYLIGHT
BEGIN:STANDARD
TZOFFSETFROM:-0500
TZOFFSETTO:-0600
TZNAME:CST
DTSTART:20261101T070000
END:STANDARD
END:VTIMEZONE
BEGIN:VEVENT
DTSTART;TZID=America/Chicago:20251015T161000
DTEND;TZID=America/Chicago:20251015T200000
DTSTAMP:20260423T005315
CREATED:20250925T133415Z
LAST-MODIFIED:20250925T133416Z
UID:10001620-1760544600-1760558400@bettevents.org
SUMMARY:Bettendorf Parks and Rec Tumbling Classes
DESCRIPTION:Tumbling Class\nMiss Ashley’s Tumbling classes are offered Wednesday evenings and Saturday afternoons for ages 2.5 up to 13 years with new sessions starting every 4 weeks. All classes are taught at the Bettendorf Community Center\, 2204 Grant Street. Parents/guardians are allowed to view their child’s class but must stay in the classroom.\n\nWednesdays\, October 15 – November 5\nAge: 2.5 years – 3 years  Class Times: 4:10pm-5:00pm\nAge: 4 years – 5 years     Class Times: 5:10pm-6:00pm\nAge: 6 years – 7 years     Class Times: 6:10pm-7:00pm\nAge: 8 years – 13 years   Class Times: 7:10pm-8:00pm\n\nSaturdays\, October 18 – November 8  \nAges: 5-8 years   Class Times: 4:15pm-5:05pm\n\nRegistration Deadline: 1 day before class starts!
URL:https://bettevents.org/event/bettendorf-parks-and-rec-tumbling-classes/
LOCATION:Bettendorf Community Center\, 2204 Grant St.\, Bettendorf\, 52722
CATEGORIES:Get Active!
ATTACH;FMTTYPE=image/png:https://bettevents.org/wp-content/uploads/2025/09/10-15-Tumbling.png
END:VEVENT
BEGIN:VEVENT
DTSTART;TZID=America/Chicago:20251018T180000
DTEND;TZID=America/Chicago:20251018T210000
DTSTAMP:20260423T005315
CREATED:20250822T191935Z
LAST-MODIFIED:20250822T191936Z
UID:10001591-1760810400-1760821200@bettevents.org
SUMMARY:Line Dancing Parties at The Landing!
DESCRIPTION:Get ready to dance the night away at our brand-new Line Dance Party – where fun\, fitness\, and community come together under the stars! This exciting outdoor event takes place at our scenic outdoor ice-skating rink (no ice\, just good vibes!)\, transforming it into a lively dance floor for all to enjoy. \nWhether you’re a seasoned line dancer or just stepping onto the dance floor for the first time\, this event is for YOU! Our friendly instructor will offer light guidance and easy-to-follow cues throughout the night\, so everyone can join the fun with confidence. Expect popular songs\, classic favorites\, and a high energy atmosphere designed to get your feet moving and your spirits soaring. \nFee: $5 pay at the door \nThere will be snacks\, alcohol\, and non-alcoholic beverages\, and warm snack options available for purchase. \nNo outside food or beverages (except water) will be allowed. \nLet’s make memories\, one step at a time. See you on the rink!
URL:https://bettevents.org/event/line-dancing-parties-at-the-landing/2025-10-18/
LOCATION:The Landing Ice Rink\, 2255 Middle Rd\, Bettendorf\, 52722
CATEGORIES:Family-friendly,Get Active!,Outdoor Entertainment,Photo Op
ATTACH;FMTTYPE=image/jpeg:https://bettevents.org/wp-content/uploads/2025/08/LAN-Line-Dancing-Parties.jpg
END:VEVENT
END:VCALENDAR