BEGIN:VCALENDAR
VERSION:2.0
PRODID:-//Bettendorf, Iowa Events - ECPv6.15.20//NONSGML v1.0//EN
CALSCALE:GREGORIAN
METHOD:PUBLISH
X-WR-CALNAME:Bettendorf, Iowa Events
X-ORIGINAL-URL:https://bettevents.org
X-WR-CALDESC:Events for Bettendorf, Iowa Events
REFRESH-INTERVAL;VALUE=DURATION:PT1H
X-Robots-Tag:noindex
X-PUBLISHED-TTL:PT1H
BEGIN:VTIMEZONE
TZID:America/Chicago
BEGIN:DAYLIGHT
TZOFFSETFROM:-0600
TZOFFSETTO:-0500
TZNAME:CDT
DTSTART:20240310T080000
END:DAYLIGHT
BEGIN:STANDARD
TZOFFSETFROM:-0500
TZOFFSETTO:-0600
TZNAME:CST
DTSTART:20241103T070000
END:STANDARD
BEGIN:DAYLIGHT
TZOFFSETFROM:-0600
TZOFFSETTO:-0500
TZNAME:CDT
DTSTART:20250309T080000
END:DAYLIGHT
BEGIN:STANDARD
TZOFFSETFROM:-0500
TZOFFSETTO:-0600
TZNAME:CST
DTSTART:20251102T070000
END:STANDARD
BEGIN:DAYLIGHT
TZOFFSETFROM:-0600
TZOFFSETTO:-0500
TZNAME:CDT
DTSTART:20260308T080000
END:DAYLIGHT
BEGIN:STANDARD
TZOFFSETFROM:-0500
TZOFFSETTO:-0600
TZNAME:CST
DTSTART:20261101T070000
END:STANDARD
END:VTIMEZONE
BEGIN:VEVENT
DTSTART;TZID=America/Chicago:20250503T100000
DTEND;TZID=America/Chicago:20250503T113000
DTSTAMP:20260423T003702
CREATED:20250310T215101Z
LAST-MODIFIED:20250310T215101Z
UID:10001366-1746266400-1746271800@bettevents.org
SUMMARY:Junior Chefs Cooking Class
DESCRIPTION:Let’s celebrate Cinco de Mayo with walking tacos\, cheese quesadillas and layered taco dip! Ages: 6 – 12. Registration Deadline: May 1st!
URL:https://bettevents.org/event/junior-chefs-cooking-class/
LOCATION:Family Museum\, 2900 Learning Campus Drive\, Bettendorf\, 52722\, United States
CATEGORIES:Indoor Entertainment
ATTACH;FMTTYPE=image/png:https://bettevents.org/wp-content/uploads/2025/03/05-03-Junior-Chefs.png
END:VEVENT
END:VCALENDAR