BEGIN:VCALENDAR
VERSION:2.0
PRODID:-//Bettendorf, Iowa Events - ECPv6.15.20//NONSGML v1.0//EN
CALSCALE:GREGORIAN
METHOD:PUBLISH
X-ORIGINAL-URL:https://bettevents.org
X-WR-CALDESC:Events for Bettendorf, Iowa Events
REFRESH-INTERVAL;VALUE=DURATION:PT1H
X-Robots-Tag:noindex
X-PUBLISHED-TTL:PT1H
BEGIN:VTIMEZONE
TZID:America/Chicago
BEGIN:DAYLIGHT
TZOFFSETFROM:-0600
TZOFFSETTO:-0500
TZNAME:CDT
DTSTART:20240310T080000
END:DAYLIGHT
BEGIN:STANDARD
TZOFFSETFROM:-0500
TZOFFSETTO:-0600
TZNAME:CST
DTSTART:20241103T070000
END:STANDARD
BEGIN:DAYLIGHT
TZOFFSETFROM:-0600
TZOFFSETTO:-0500
TZNAME:CDT
DTSTART:20250309T080000
END:DAYLIGHT
BEGIN:STANDARD
TZOFFSETFROM:-0500
TZOFFSETTO:-0600
TZNAME:CST
DTSTART:20251102T070000
END:STANDARD
BEGIN:DAYLIGHT
TZOFFSETFROM:-0600
TZOFFSETTO:-0500
TZNAME:CDT
DTSTART:20260308T080000
END:DAYLIGHT
BEGIN:STANDARD
TZOFFSETFROM:-0500
TZOFFSETTO:-0600
TZNAME:CST
DTSTART:20261101T070000
END:STANDARD
END:VTIMEZONE
BEGIN:VEVENT
DTSTART;TZID=America/Chicago:20250628T090000
DTEND;TZID=America/Chicago:20250628T110000
DTSTAMP:20260422T050246
CREATED:20250619T162848Z
LAST-MODIFIED:20250619T162849Z
UID:10001506-1751101200-1751108400@bettevents.org
SUMMARY:Senior Artist Paint Party - 55+
DESCRIPTION:Get ready to unleash your inner cool cat with this fun and patriotic masterpiece! Bettendorf Parks & Recreation is excited to host Karie Rauch from Art with Kare for a Senior 55+ paint party at the Bettendorf Community Center!\nClass will run from 9-11am.\nEnjoy coffee and sandwiches at the end of the class while our paintings have time to dry before heading home. Choose between ham or turkey during registration.\nAll materials and step-by-step instruction included – no experience necessary.
URL:https://bettevents.org/event/senior-artist-paint-party-55/
LOCATION:Bettendorf Community Center\, 2204 Grant St.\, Bettendorf\, 52722
CATEGORIES:Indoor Entertainment
ATTACH;FMTTYPE=image/png:https://bettevents.org/wp-content/uploads/2025/06/06-28-Senior-Paint-Class-PHOTO1.png
END:VEVENT
END:VCALENDAR