BEGIN:VCALENDAR
VERSION:2.0
PRODID:-//Bettendorf, Iowa Events - ECPv6.15.20//NONSGML v1.0//EN
CALSCALE:GREGORIAN
METHOD:PUBLISH
X-WR-CALNAME:Bettendorf, Iowa Events
X-ORIGINAL-URL:https://bettevents.org
X-WR-CALDESC:Events for Bettendorf, Iowa Events
REFRESH-INTERVAL;VALUE=DURATION:PT1H
X-Robots-Tag:noindex
X-PUBLISHED-TTL:PT1H
BEGIN:VTIMEZONE
TZID:America/Chicago
BEGIN:DAYLIGHT
TZOFFSETFROM:-0600
TZOFFSETTO:-0500
TZNAME:CDT
DTSTART:20240310T080000
END:DAYLIGHT
BEGIN:STANDARD
TZOFFSETFROM:-0500
TZOFFSETTO:-0600
TZNAME:CST
DTSTART:20241103T070000
END:STANDARD
BEGIN:DAYLIGHT
TZOFFSETFROM:-0600
TZOFFSETTO:-0500
TZNAME:CDT
DTSTART:20250309T080000
END:DAYLIGHT
BEGIN:STANDARD
TZOFFSETFROM:-0500
TZOFFSETTO:-0600
TZNAME:CST
DTSTART:20251102T070000
END:STANDARD
BEGIN:DAYLIGHT
TZOFFSETFROM:-0600
TZOFFSETTO:-0500
TZNAME:CDT
DTSTART:20260308T080000
END:DAYLIGHT
BEGIN:STANDARD
TZOFFSETFROM:-0500
TZOFFSETTO:-0600
TZNAME:CST
DTSTART:20261101T070000
END:STANDARD
END:VTIMEZONE
BEGIN:VEVENT
DTSTART;TZID=America/Chicago:20251011T083000
DTEND;TZID=America/Chicago:20251011T120000
DTSTAMP:20260420T195724
CREATED:20251007T190332Z
LAST-MODIFIED:20251007T190332Z
UID:10001626-1760171400-1760184000@bettevents.org
SUMMARY:Concourse d'Quad Cities Car Show
DESCRIPTION:Golfers won’t be the only ones “driving” at a local golf course this upcoming weekend. \n\nThe 3rd Annual Concourse d’Quad Cities Car Show is taking place on Saturday\, October 11 on the course at Hidden Hills Golf Course\, 4335 Indiana Avenue. The event begins at 8:30 a.m. and runs until 12 p.m. A food truck will be available. \n\n“There will be cars from every era and background\, from Velies to Corvettes\, and anyone who wants to show off their prized vehicle for a chance to win a trophy! said Conor Flaherty of Bettendorf Cars & Coffee. \n\nOrganized by Bettendorf Cars & Coffee\, this event raises money to help kids participate in programs offered by the Bettendorf Parks & Recreation Department through the Friends of Bettendorf Parks & Recreation\, which is endorsed by the City of Bettendorf. \n\nTo register for the Concourse d’Quad Cities Car Show\, visit www.bettendorf.org/Concourse. The entry fee is $15.00 in person or 17.85 per car online. The event is free for spectators\, but donations are encouraged.
URL:https://bettevents.org/event/concourse-dquad-cities-car-show/
LOCATION:Hidden Hills Golf Course\, 4335 Indiana Ave\, Bettendorf\, 52722
CATEGORIES:Family-friendly,Outdoor Entertainment,Photo Op
ATTACH;FMTTYPE=image/png:https://bettevents.org/wp-content/uploads/2025/10/10-11-Concourse-DQuad-Cities-Car-Show.png
END:VEVENT
END:VCALENDAR