BEGIN:VCALENDAR
VERSION:2.0
PRODID:-//Bettendorf, Iowa Events - ECPv6.15.20//NONSGML v1.0//EN
CALSCALE:GREGORIAN
METHOD:PUBLISH
X-ORIGINAL-URL:https://bettevents.org
X-WR-CALDESC:Events for Bettendorf, Iowa Events
REFRESH-INTERVAL;VALUE=DURATION:PT1H
X-Robots-Tag:noindex
X-PUBLISHED-TTL:PT1H
BEGIN:VTIMEZONE
TZID:America/Chicago
BEGIN:DAYLIGHT
TZOFFSETFROM:-0600
TZOFFSETTO:-0500
TZNAME:CDT
DTSTART:20240310T080000
END:DAYLIGHT
BEGIN:STANDARD
TZOFFSETFROM:-0500
TZOFFSETTO:-0600
TZNAME:CST
DTSTART:20241103T070000
END:STANDARD
BEGIN:DAYLIGHT
TZOFFSETFROM:-0600
TZOFFSETTO:-0500
TZNAME:CDT
DTSTART:20250309T080000
END:DAYLIGHT
BEGIN:STANDARD
TZOFFSETFROM:-0500
TZOFFSETTO:-0600
TZNAME:CST
DTSTART:20251102T070000
END:STANDARD
BEGIN:DAYLIGHT
TZOFFSETFROM:-0600
TZOFFSETTO:-0500
TZNAME:CDT
DTSTART:20260308T080000
END:DAYLIGHT
BEGIN:STANDARD
TZOFFSETFROM:-0500
TZOFFSETTO:-0600
TZNAME:CST
DTSTART:20261101T070000
END:STANDARD
END:VTIMEZONE
BEGIN:VEVENT
DTSTART;TZID=America/Chicago:20251205T170000
DTEND;TZID=America/Chicago:20251205T170000
DTSTAMP:20260420T233151
CREATED:20251124T200352Z
LAST-MODIFIED:20251124T200353Z
UID:10001673-1764954000-1764954000@bettevents.org
SUMMARY:The Landing Ice Rink Opening Date!
DESCRIPTION:The City of Bettendorf is excited to open The Landing Ice Rink for its second season on… Friday\, December 5\, 2025 (weather permitting)! \n\nOver the last month\, the Bettendorf Parks & Recreation Department has been busy training staff\, sharpening skates\, adding new concession items\, creating ice\, and giving our tree a glow-up – all in anticipation of another successful season at one of our newest amenities – an 11\,000+ square foot permanent outdoor ice rink with climate-controlled restrooms\, concessions\, and warming areas as well as outdoor gas firepits.\n\nThe Landing Ice Rink’s 2025-26 Season will kick off with a Tree Lighting Ceremony at 5 p.m. After that\, the rink will open to all skaters with plenty of special events to look forward to throughout the season!
URL:https://bettevents.org/event/the-landing-ice-rink-opening-date/
LOCATION:The Landing Ice Rink\, 2255 Middle Rd\, Bettendorf\, 52722
CATEGORIES:Family-friendly,Get Active!,Outdoor Entertainment,Photo Op
ATTACH;FMTTYPE=image/png:https://bettevents.org/wp-content/uploads/2025/11/12-5-The-Landing-Opening.png
ORGANIZER;CN="Bettendorf Parks & Recreation":MAILTO:parks@bettendorf.org
END:VEVENT
BEGIN:VEVENT
DTSTART;TZID=America/Chicago:20251207T130000
DTEND;TZID=America/Chicago:20251207T130000
DTSTAMP:20260420T233151
CREATED:20251124T200033Z
LAST-MODIFIED:20251124T222344Z
UID:10001674-1765112400-1765112400@bettevents.org
SUMMARY:Holiday Dog Walk
DESCRIPTION:A traditional event is back in the City of Bettendorf\, and it’s sure to get your four-legged friend into the tail-waggin’ holiday spirit! \nOn Sunday\, December 7\, 2025\, at 1 p.m.\, the Bettendorf Dog Park Alliance and Bettendorf Trails Committee – partners of the Bettendorf Parks & Recreation Department and endorsed by the City of Bettendorf – are hosting their Holiday Dog Walk at Crow Creek Dog Park. \nThis free event includes a 3-mile route. Participants can turn around at any time to head back to the dog park and enjoy hot cider. All breeds and pedigrees are invited to attend and must be on a leash during the walk portion of the event. \nIn case of inclement weather\, this event will be cancelled. \nThe Holiday Dog Walk is one of several events taking place in the City of Bettendorf this holiday season. For a quick way to view and share all the City’s Holiday Happenings\, visit www.bettendorf.org/HolidayHappenings.
URL:https://bettevents.org/event/holiday-dog-walk-2/
LOCATION:Crow Creek Dog Park\, 4701 Devils Glen Road\, Bettendorf\, 52722
CATEGORIES:Family-friendly,Get Active!,Outdoor Entertainment,Photo Op
ATTACH;FMTTYPE=image/jpeg:https://bettevents.org/wp-content/uploads/2025/11/12-07-Holiday-Dog-Walk-graphic-scaled.jpg
ORGANIZER;CN="Bettendorf Dog Park Alliance":MAILTO:k.behncke17@gmail.com
END:VEVENT
END:VCALENDAR