BEGIN:VCALENDAR
VERSION:2.0
PRODID:-//Bettendorf, Iowa Events - ECPv6.15.20//NONSGML v1.0//EN
CALSCALE:GREGORIAN
METHOD:PUBLISH
X-ORIGINAL-URL:https://bettevents.org
X-WR-CALDESC:Events for Bettendorf, Iowa Events
REFRESH-INTERVAL;VALUE=DURATION:PT1H
X-Robots-Tag:noindex
X-PUBLISHED-TTL:PT1H
BEGIN:VTIMEZONE
TZID:America/Chicago
BEGIN:DAYLIGHT
TZOFFSETFROM:-0600
TZOFFSETTO:-0500
TZNAME:CDT
DTSTART:20250309T080000
END:DAYLIGHT
BEGIN:STANDARD
TZOFFSETFROM:-0500
TZOFFSETTO:-0600
TZNAME:CST
DTSTART:20251102T070000
END:STANDARD
BEGIN:DAYLIGHT
TZOFFSETFROM:-0600
TZOFFSETTO:-0500
TZNAME:CDT
DTSTART:20260308T080000
END:DAYLIGHT
BEGIN:STANDARD
TZOFFSETFROM:-0500
TZOFFSETTO:-0600
TZNAME:CST
DTSTART:20261101T070000
END:STANDARD
BEGIN:DAYLIGHT
TZOFFSETFROM:-0600
TZOFFSETTO:-0500
TZNAME:CDT
DTSTART:20270314T080000
END:DAYLIGHT
BEGIN:STANDARD
TZOFFSETFROM:-0500
TZOFFSETTO:-0600
TZNAME:CST
DTSTART:20271107T070000
END:STANDARD
END:VTIMEZONE
BEGIN:VEVENT
DTSTART;TZID=America/Chicago:20260602T120000
DTEND;TZID=America/Chicago:20260602T130000
DTSTAMP:20260422T075118
CREATED:20260401T153353Z
LAST-MODIFIED:20260401T153353Z
UID:10001743-1780401600-1780405200@bettevents.org
SUMMARY:First Tuesday Networking Event  |  Bettendorf Business Network
DESCRIPTION:Attend our First Tuesday networking meeting from 12-1pm at the Hilton Garden Inn – Bettendorf! Enjoy a lunch buffet for $14 and introduce yourself and your business to the group. Make sure to come early to reserve a spot! Hear from the city leaders about the latest happenings in Bettendorf\, and let’s expand our network together. \nVisit our Facebook or LinkedIn page to view the Guest Speaker and Featured Business!
URL:https://bettevents.org/event/first-tuesday-networking-event-bettendorf-business-network/2026-06-02/
LOCATION:Hilton Garden Inn Bettendorf\, 959 Middle Road\, Bettendorf\, 52722
ATTACH;FMTTYPE=image/jpeg:https://bettevents.org/wp-content/uploads/2026/03/First-Tuesday-EVENT-AD-01-1-scaled.jpg
ORGANIZER;CN="Bettendorf Business Network":MAILTO:bettendorfbusinessnetwork@gmail.com
END:VEVENT
BEGIN:VEVENT
DTSTART;TZID=America/Chicago:20260603T160000
DTEND;TZID=America/Chicago:20260603T170000
DTSTAMP:20260422T075118
CREATED:20260409T151158Z
LAST-MODIFIED:20260409T151159Z
UID:10001763-1780502400-1780506000@bettevents.org
SUMMARY:Youth Pickleball Beginner Clinic
DESCRIPTION:In this clinic\, participants will learn the sport of pickleball from professional pickleball player\, Jeffrey van der Eems\, through various drills\, games\, and other pickleball related activities! Participants will have a blast socializing and learning this exciting sport!\nJune 3 – June 17 from 4:00PM – 5:00PM
URL:https://bettevents.org/event/youth-pickleball-beginner-clinic/
LOCATION:Bettendorf Community Center\, 2204 Grant St.\, Bettendorf\, 52722
CATEGORIES:Get Active!
ATTACH;FMTTYPE=image/jpeg:https://bettevents.org/wp-content/uploads/2026/04/02-04-Youth-Pickleball-scaled.jpg
ORGANIZER;CN="Bettendorf Parks & Recreation":MAILTO:parks@bettendorf.org
END:VEVENT
BEGIN:VEVENT
DTSTART;TZID=America/Chicago:20260624T083000
DTEND;TZID=America/Chicago:20260624T093000
DTSTAMP:20260422T075118
CREATED:20260401T153154Z
LAST-MODIFIED:20260401T153155Z
UID:10001752-1782289800-1782293400@bettevents.org
SUMMARY:Good Morning Bettendorf  |  Bettendorf Business Network
DESCRIPTION:Join us for morning networking at Pizza Ranch in Bettendorf from 8:30am – 9:30am! Come network with local business owners over free breakfast pizza and coffee. This is a free event\, members and non-members are able to attend. Invite a guest!\n\nCheck our Facebook or LinkedIn page to view our Guest Speaker!
URL:https://bettevents.org/event/good-morning-bettendorf-bettendorf-business-network/2026-06-24/
LOCATION:Pizza Ranch – Bettendorf\, 880 Lincoln Rd\, Bettendorf\, 52722
ATTACH;FMTTYPE=image/jpeg:https://bettevents.org/wp-content/uploads/2026/03/GMB-EVENT-AD-01-scaled.jpg
ORGANIZER;CN="Bettendorf Business Network":MAILTO:bettendorfbusinessnetwork@gmail.com
END:VEVENT
BEGIN:VEVENT
DTSTART;TZID=America/Chicago:20260625T150000
DTEND;TZID=America/Chicago:20260625T193000
DTSTAMP:20260422T075118
CREATED:20260320T144542Z
LAST-MODIFIED:20260320T144543Z
UID:10001734-1782399600-1782415800@bettevents.org
SUMMARY:Bettendorf Community Center Special Needs Open Gym
DESCRIPTION:Join us for a welcoming\, adaptive gym experience designed specifically for individuals with special needs. Our Special Needs Open Gym provides a comfortable\, sensory-friendly environment where participants can enjoy physical activity at their own pace.\n\nDuring these sessions\, individuals with special needs will have the opportunity to participate in recreational activities in a more adaptive and inclusive setting than traditional programs or gym time may provide. We will limit capacity to minimize sensory stimulation and create an accommodating space for all abilities. Participants will have access to our gymnasium and a meeting room\, with both traditional gym and sporting equipment as well as adaptive play equipment available to meet diverse needs and interests.\n\nOne adult (18+) must accompany each participant. Times vary based on age group. \n\nFor any questions\, please call Meredith Fabrizius at 563-344-4091.
URL:https://bettevents.org/event/bettendorf-community-center-special-needs-open-gym/2026-06-25/
LOCATION:Bettendorf Community Center\, 2204 Grant St.\, Bettendorf\, 52722
CATEGORIES:Family-friendly,Get Active!,Indoor Entertainment
ATTACH;FMTTYPE=image/png:https://bettevents.org/wp-content/uploads/2026/03/04-23-Special-Needs-Gym-AN-40.png
ORGANIZER;CN="Bettendorf Parks & Recreation":MAILTO:parks@bettendorf.org
END:VEVENT
BEGIN:VEVENT
DTSTART;TZID=America/Chicago:20260707T120000
DTEND;TZID=America/Chicago:20260707T130000
DTSTAMP:20260422T075118
CREATED:20260401T153353Z
LAST-MODIFIED:20260401T153353Z
UID:10001744-1783425600-1783429200@bettevents.org
SUMMARY:First Tuesday Networking Event  |  Bettendorf Business Network
DESCRIPTION:Attend our First Tuesday networking meeting from 12-1pm at the Hilton Garden Inn – Bettendorf! Enjoy a lunch buffet for $14 and introduce yourself and your business to the group. Make sure to come early to reserve a spot! Hear from the city leaders about the latest happenings in Bettendorf\, and let’s expand our network together. \nVisit our Facebook or LinkedIn page to view the Guest Speaker and Featured Business!
URL:https://bettevents.org/event/first-tuesday-networking-event-bettendorf-business-network/2026-07-07/
LOCATION:Hilton Garden Inn Bettendorf\, 959 Middle Road\, Bettendorf\, 52722
ATTACH;FMTTYPE=image/jpeg:https://bettevents.org/wp-content/uploads/2026/03/First-Tuesday-EVENT-AD-01-1-scaled.jpg
ORGANIZER;CN="Bettendorf Business Network":MAILTO:bettendorfbusinessnetwork@gmail.com
END:VEVENT
BEGIN:VEVENT
DTSTART;TZID=America/Chicago:20260708T160000
DTEND;TZID=America/Chicago:20260708T170000
DTSTAMP:20260422T075118
CREATED:20260409T164820Z
LAST-MODIFIED:20260409T164821Z
UID:10001765-1783526400-1783530000@bettevents.org
SUMMARY:Youth Pickleball Intermediate Clinic
DESCRIPTION:In this Youth Intermediate clinic\, we will cover the strategies in pickleball and cover shots like dinking\, cross-court dinking\, volleys\, and 3rd shot decisions. This class is designed for kids that have some experience playing pickleball and want to develop their game. This class is appropriate for those that have taken Jeffrey’s youth clinics in the past.\n\nRain Make-Up Date: July 29th\n\nJuly 8 – July 22 from 4:00PM – 5:00PM
URL:https://bettevents.org/event/youth-pickleball-intermediate-clinic/
LOCATION:Bettendorf Middle School\, 2030 Middle Rd\, Bettendorf\, 52722
CATEGORIES:Get Active!
ATTACH;FMTTYPE=image/png:https://bettevents.org/wp-content/uploads/2026/04/Youth-Pickleball-Outdoors.png
ORGANIZER;CN="Bettendorf Parks & Recreation":MAILTO:parks@bettendorf.org
END:VEVENT
BEGIN:VEVENT
DTSTART;TZID=America/Chicago:20260723T150000
DTEND;TZID=America/Chicago:20260723T193000
DTSTAMP:20260422T075118
CREATED:20260320T144542Z
LAST-MODIFIED:20260320T144543Z
UID:10001735-1784818800-1784835000@bettevents.org
SUMMARY:Bettendorf Community Center Special Needs Open Gym
DESCRIPTION:Join us for a welcoming\, adaptive gym experience designed specifically for individuals with special needs. Our Special Needs Open Gym provides a comfortable\, sensory-friendly environment where participants can enjoy physical activity at their own pace.\n\nDuring these sessions\, individuals with special needs will have the opportunity to participate in recreational activities in a more adaptive and inclusive setting than traditional programs or gym time may provide. We will limit capacity to minimize sensory stimulation and create an accommodating space for all abilities. Participants will have access to our gymnasium and a meeting room\, with both traditional gym and sporting equipment as well as adaptive play equipment available to meet diverse needs and interests.\n\nOne adult (18+) must accompany each participant. Times vary based on age group. \n\nFor any questions\, please call Meredith Fabrizius at 563-344-4091.
URL:https://bettevents.org/event/bettendorf-community-center-special-needs-open-gym/2026-07-23/
LOCATION:Bettendorf Community Center\, 2204 Grant St.\, Bettendorf\, 52722
CATEGORIES:Family-friendly,Get Active!,Indoor Entertainment
ATTACH;FMTTYPE=image/png:https://bettevents.org/wp-content/uploads/2026/03/04-23-Special-Needs-Gym-AN-40.png
ORGANIZER;CN="Bettendorf Parks & Recreation":MAILTO:parks@bettendorf.org
END:VEVENT
BEGIN:VEVENT
DTSTART;TZID=America/Chicago:20260729T083000
DTEND;TZID=America/Chicago:20260729T093000
DTSTAMP:20260422T075118
CREATED:20260401T153154Z
LAST-MODIFIED:20260401T153155Z
UID:10001753-1785313800-1785317400@bettevents.org
SUMMARY:Good Morning Bettendorf  |  Bettendorf Business Network
DESCRIPTION:Join us for morning networking at Pizza Ranch in Bettendorf from 8:30am – 9:30am! Come network with local business owners over free breakfast pizza and coffee. This is a free event\, members and non-members are able to attend. Invite a guest!\n\nCheck our Facebook or LinkedIn page to view our Guest Speaker!
URL:https://bettevents.org/event/good-morning-bettendorf-bettendorf-business-network/2026-07-29/
LOCATION:Pizza Ranch – Bettendorf\, 880 Lincoln Rd\, Bettendorf\, 52722
ATTACH;FMTTYPE=image/jpeg:https://bettevents.org/wp-content/uploads/2026/03/GMB-EVENT-AD-01-scaled.jpg
ORGANIZER;CN="Bettendorf Business Network":MAILTO:bettendorfbusinessnetwork@gmail.com
END:VEVENT
BEGIN:VEVENT
DTSTART;TZID=America/Chicago:20260804T120000
DTEND;TZID=America/Chicago:20260804T130000
DTSTAMP:20260422T075118
CREATED:20260401T153353Z
LAST-MODIFIED:20260401T153353Z
UID:10001745-1785844800-1785848400@bettevents.org
SUMMARY:First Tuesday Networking Event  |  Bettendorf Business Network
DESCRIPTION:Attend our First Tuesday networking meeting from 12-1pm at the Hilton Garden Inn – Bettendorf! Enjoy a lunch buffet for $14 and introduce yourself and your business to the group. Make sure to come early to reserve a spot! Hear from the city leaders about the latest happenings in Bettendorf\, and let’s expand our network together. \nVisit our Facebook or LinkedIn page to view the Guest Speaker and Featured Business!
URL:https://bettevents.org/event/first-tuesday-networking-event-bettendorf-business-network/2026-08-04/
LOCATION:Hilton Garden Inn Bettendorf\, 959 Middle Road\, Bettendorf\, 52722
ATTACH;FMTTYPE=image/jpeg:https://bettevents.org/wp-content/uploads/2026/03/First-Tuesday-EVENT-AD-01-1-scaled.jpg
ORGANIZER;CN="Bettendorf Business Network":MAILTO:bettendorfbusinessnetwork@gmail.com
END:VEVENT
BEGIN:VEVENT
DTSTART;TZID=America/Chicago:20260805T160000
DTEND;TZID=America/Chicago:20260805T170000
DTSTAMP:20260422T075118
CREATED:20260409T151508Z
LAST-MODIFIED:20260409T151508Z
UID:10001764-1785945600-1785949200@bettevents.org
SUMMARY:Youth Pickleball Beginner Clinic
DESCRIPTION:In this clinic\, participants will learn the sport of pickleball from professional pickleball player\, Jeffrey van der Eems\, through various drills\, games\, and other pickleball related activities! Participants will have a blast socializing and learning this exciting sport!\nAugust 5 – August 19 from 4:00PM – 5:00PM
URL:https://bettevents.org/event/youth-pickleball-beginner-clinic-3/
LOCATION:Bettendorf Community Center\, 2204 Grant St.\, Bettendorf\, 52722
CATEGORIES:Get Active!
ATTACH;FMTTYPE=image/png:https://bettevents.org/wp-content/uploads/2026/04/03-09-Youth-Pickleball.png
ORGANIZER;CN="Bettendorf Parks & Recreation":MAILTO:parks@bettendorf.org
END:VEVENT
BEGIN:VEVENT
DTSTART;TZID=America/Chicago:20260826T083000
DTEND;TZID=America/Chicago:20260826T093000
DTSTAMP:20260422T075118
CREATED:20260401T153154Z
LAST-MODIFIED:20260401T153155Z
UID:10001754-1787733000-1787736600@bettevents.org
SUMMARY:Good Morning Bettendorf  |  Bettendorf Business Network
DESCRIPTION:Join us for morning networking at Pizza Ranch in Bettendorf from 8:30am – 9:30am! Come network with local business owners over free breakfast pizza and coffee. This is a free event\, members and non-members are able to attend. Invite a guest!\n\nCheck our Facebook or LinkedIn page to view our Guest Speaker!
URL:https://bettevents.org/event/good-morning-bettendorf-bettendorf-business-network/2026-08-26/
LOCATION:Pizza Ranch – Bettendorf\, 880 Lincoln Rd\, Bettendorf\, 52722
ATTACH;FMTTYPE=image/jpeg:https://bettevents.org/wp-content/uploads/2026/03/GMB-EVENT-AD-01-scaled.jpg
ORGANIZER;CN="Bettendorf Business Network":MAILTO:bettendorfbusinessnetwork@gmail.com
END:VEVENT
BEGIN:VEVENT
DTSTART;TZID=America/Chicago:20260901T120000
DTEND;TZID=America/Chicago:20260901T130000
DTSTAMP:20260422T075118
CREATED:20260401T153353Z
LAST-MODIFIED:20260401T153353Z
UID:10001746-1788264000-1788267600@bettevents.org
SUMMARY:First Tuesday Networking Event  |  Bettendorf Business Network
DESCRIPTION:Attend our First Tuesday networking meeting from 12-1pm at the Hilton Garden Inn – Bettendorf! Enjoy a lunch buffet for $14 and introduce yourself and your business to the group. Make sure to come early to reserve a spot! Hear from the city leaders about the latest happenings in Bettendorf\, and let’s expand our network together. \nVisit our Facebook or LinkedIn page to view the Guest Speaker and Featured Business!
URL:https://bettevents.org/event/first-tuesday-networking-event-bettendorf-business-network/2026-09-01/
LOCATION:Hilton Garden Inn Bettendorf\, 959 Middle Road\, Bettendorf\, 52722
ATTACH;FMTTYPE=image/jpeg:https://bettevents.org/wp-content/uploads/2026/03/First-Tuesday-EVENT-AD-01-1-scaled.jpg
ORGANIZER;CN="Bettendorf Business Network":MAILTO:bettendorfbusinessnetwork@gmail.com
END:VEVENT
BEGIN:VEVENT
DTSTART;TZID=America/Chicago:20260930T083000
DTEND;TZID=America/Chicago:20260930T093000
DTSTAMP:20260422T075118
CREATED:20260401T153154Z
LAST-MODIFIED:20260401T153155Z
UID:10001755-1790757000-1790760600@bettevents.org
SUMMARY:Good Morning Bettendorf  |  Bettendorf Business Network
DESCRIPTION:Join us for morning networking at Pizza Ranch in Bettendorf from 8:30am – 9:30am! Come network with local business owners over free breakfast pizza and coffee. This is a free event\, members and non-members are able to attend. Invite a guest!\n\nCheck our Facebook or LinkedIn page to view our Guest Speaker!
URL:https://bettevents.org/event/good-morning-bettendorf-bettendorf-business-network/2026-09-30/
LOCATION:Pizza Ranch – Bettendorf\, 880 Lincoln Rd\, Bettendorf\, 52722
ATTACH;FMTTYPE=image/jpeg:https://bettevents.org/wp-content/uploads/2026/03/GMB-EVENT-AD-01-scaled.jpg
ORGANIZER;CN="Bettendorf Business Network":MAILTO:bettendorfbusinessnetwork@gmail.com
END:VEVENT
BEGIN:VEVENT
DTSTART;TZID=America/Chicago:20261006T120000
DTEND;TZID=America/Chicago:20261006T130000
DTSTAMP:20260422T075118
CREATED:20260401T153353Z
LAST-MODIFIED:20260401T153353Z
UID:10001747-1791288000-1791291600@bettevents.org
SUMMARY:First Tuesday Networking Event  |  Bettendorf Business Network
DESCRIPTION:Attend our First Tuesday networking meeting from 12-1pm at the Hilton Garden Inn – Bettendorf! Enjoy a lunch buffet for $14 and introduce yourself and your business to the group. Make sure to come early to reserve a spot! Hear from the city leaders about the latest happenings in Bettendorf\, and let’s expand our network together. \nVisit our Facebook or LinkedIn page to view the Guest Speaker and Featured Business!
URL:https://bettevents.org/event/first-tuesday-networking-event-bettendorf-business-network/2026-10-06/
LOCATION:Hilton Garden Inn Bettendorf\, 959 Middle Road\, Bettendorf\, 52722
ATTACH;FMTTYPE=image/jpeg:https://bettevents.org/wp-content/uploads/2026/03/First-Tuesday-EVENT-AD-01-1-scaled.jpg
ORGANIZER;CN="Bettendorf Business Network":MAILTO:bettendorfbusinessnetwork@gmail.com
END:VEVENT
BEGIN:VEVENT
DTSTART;TZID=America/Chicago:20261013T173000
DTEND;TZID=America/Chicago:20261013T183000
DTSTAMP:20260422T075118
CREATED:20260209T190213Z
LAST-MODIFIED:20260209T190214Z
UID:10001722-1791912600-1791916200@bettevents.org
SUMMARY:Balloon Twisting Workshop
DESCRIPTION:Bettendorf Parks & Recreation are teaming up with our very own local QC Clown Around to present Balloon Twisting Workshops! Workshops will be held at the Bettendorf Community Center for ages 7-12.
URL:https://bettevents.org/event/balloon-twisting-workshop-2/2026-10-13/
LOCATION:Bettendorf Community Center\, 2204 Grant St.\, Bettendorf\, 52722
CATEGORIES:Indoor Entertainment
ATTACH;FMTTYPE=image/png:https://bettevents.org/wp-content/uploads/2026/02/02-10-Balloon-Twisting.png
ORGANIZER;CN="Bettendorf Parks & Recreation":MAILTO:parks@bettendorf.org
END:VEVENT
BEGIN:VEVENT
DTSTART;TZID=America/Chicago:20261028T083000
DTEND;TZID=America/Chicago:20261028T093000
DTSTAMP:20260422T075118
CREATED:20260401T153154Z
LAST-MODIFIED:20260401T153155Z
UID:10001756-1793176200-1793179800@bettevents.org
SUMMARY:Good Morning Bettendorf  |  Bettendorf Business Network
DESCRIPTION:Join us for morning networking at Pizza Ranch in Bettendorf from 8:30am – 9:30am! Come network with local business owners over free breakfast pizza and coffee. This is a free event\, members and non-members are able to attend. Invite a guest!\n\nCheck our Facebook or LinkedIn page to view our Guest Speaker!
URL:https://bettevents.org/event/good-morning-bettendorf-bettendorf-business-network/2026-10-28/
LOCATION:Pizza Ranch – Bettendorf\, 880 Lincoln Rd\, Bettendorf\, 52722
ATTACH;FMTTYPE=image/jpeg:https://bettevents.org/wp-content/uploads/2026/03/GMB-EVENT-AD-01-scaled.jpg
ORGANIZER;CN="Bettendorf Business Network":MAILTO:bettendorfbusinessnetwork@gmail.com
END:VEVENT
BEGIN:VEVENT
DTSTART;TZID=America/Chicago:20261103T120000
DTEND;TZID=America/Chicago:20261103T130000
DTSTAMP:20260422T075118
CREATED:20260401T153353Z
LAST-MODIFIED:20260401T153353Z
UID:10001748-1793707200-1793710800@bettevents.org
SUMMARY:First Tuesday Networking Event  |  Bettendorf Business Network
DESCRIPTION:Attend our First Tuesday networking meeting from 12-1pm at the Hilton Garden Inn – Bettendorf! Enjoy a lunch buffet for $14 and introduce yourself and your business to the group. Make sure to come early to reserve a spot! Hear from the city leaders about the latest happenings in Bettendorf\, and let’s expand our network together. \nVisit our Facebook or LinkedIn page to view the Guest Speaker and Featured Business!
URL:https://bettevents.org/event/first-tuesday-networking-event-bettendorf-business-network/2026-11-03/
LOCATION:Hilton Garden Inn Bettendorf\, 959 Middle Road\, Bettendorf\, 52722
ATTACH;FMTTYPE=image/jpeg:https://bettevents.org/wp-content/uploads/2026/03/First-Tuesday-EVENT-AD-01-1-scaled.jpg
ORGANIZER;CN="Bettendorf Business Network":MAILTO:bettendorfbusinessnetwork@gmail.com
END:VEVENT
BEGIN:VEVENT
DTSTART;TZID=America/Chicago:20261125T083000
DTEND;TZID=America/Chicago:20261125T093000
DTSTAMP:20260422T075118
CREATED:20260401T153154Z
LAST-MODIFIED:20260401T153155Z
UID:10001757-1795595400-1795599000@bettevents.org
SUMMARY:Good Morning Bettendorf  |  Bettendorf Business Network
DESCRIPTION:Join us for morning networking at Pizza Ranch in Bettendorf from 8:30am – 9:30am! Come network with local business owners over free breakfast pizza and coffee. This is a free event\, members and non-members are able to attend. Invite a guest!\n\nCheck our Facebook or LinkedIn page to view our Guest Speaker!
URL:https://bettevents.org/event/good-morning-bettendorf-bettendorf-business-network/2026-11-25/
LOCATION:Pizza Ranch – Bettendorf\, 880 Lincoln Rd\, Bettendorf\, 52722
ATTACH;FMTTYPE=image/jpeg:https://bettevents.org/wp-content/uploads/2026/03/GMB-EVENT-AD-01-scaled.jpg
ORGANIZER;CN="Bettendorf Business Network":MAILTO:bettendorfbusinessnetwork@gmail.com
END:VEVENT
BEGIN:VEVENT
DTSTART;TZID=America/Chicago:20261201T120000
DTEND;TZID=America/Chicago:20261201T130000
DTSTAMP:20260422T075118
CREATED:20260401T153353Z
LAST-MODIFIED:20260401T153353Z
UID:10001749-1796126400-1796130000@bettevents.org
SUMMARY:First Tuesday Networking Event  |  Bettendorf Business Network
DESCRIPTION:Attend our First Tuesday networking meeting from 12-1pm at the Hilton Garden Inn – Bettendorf! Enjoy a lunch buffet for $14 and introduce yourself and your business to the group. Make sure to come early to reserve a spot! Hear from the city leaders about the latest happenings in Bettendorf\, and let’s expand our network together. \nVisit our Facebook or LinkedIn page to view the Guest Speaker and Featured Business!
URL:https://bettevents.org/event/first-tuesday-networking-event-bettendorf-business-network/2026-12-01/
LOCATION:Hilton Garden Inn Bettendorf\, 959 Middle Road\, Bettendorf\, 52722
ATTACH;FMTTYPE=image/jpeg:https://bettevents.org/wp-content/uploads/2026/03/First-Tuesday-EVENT-AD-01-1-scaled.jpg
ORGANIZER;CN="Bettendorf Business Network":MAILTO:bettendorfbusinessnetwork@gmail.com
END:VEVENT
BEGIN:VEVENT
DTSTART;TZID=America/Chicago:20261230T083000
DTEND;TZID=America/Chicago:20261230T093000
DTSTAMP:20260422T075118
CREATED:20260401T153154Z
LAST-MODIFIED:20260401T153155Z
UID:10001758-1798619400-1798623000@bettevents.org
SUMMARY:Good Morning Bettendorf  |  Bettendorf Business Network
DESCRIPTION:Join us for morning networking at Pizza Ranch in Bettendorf from 8:30am – 9:30am! Come network with local business owners over free breakfast pizza and coffee. This is a free event\, members and non-members are able to attend. Invite a guest!\n\nCheck our Facebook or LinkedIn page to view our Guest Speaker!
URL:https://bettevents.org/event/good-morning-bettendorf-bettendorf-business-network/2026-12-30/
LOCATION:Pizza Ranch – Bettendorf\, 880 Lincoln Rd\, Bettendorf\, 52722
ATTACH;FMTTYPE=image/jpeg:https://bettevents.org/wp-content/uploads/2026/03/GMB-EVENT-AD-01-scaled.jpg
ORGANIZER;CN="Bettendorf Business Network":MAILTO:bettendorfbusinessnetwork@gmail.com
END:VEVENT
END:VCALENDAR